Workbook

Sheet 汇总表 
A1: 表4
A2: 工程量清单汇总表
A3: 工程名称：2022 年嵊州曹娥江三界段航道养护工程（航道养护） | D3: 人民币元
A4: 序 号 | B4: 章 次 | C4: 章 名 称 | D4: 金额(元）
A5: 1 | B5: 100 | C5: 总则 | D5: ='100章'!E22 -> 53623
A6: 2 | B6: 200 | C6: 土石方及填筑工程 | D6: ='200章'!E13 -> 197215
A7: 3 | B7: 400 | C7: 混凝土工程 | D7: ='400章'!E14 -> 308025
A8: 4 | B8: 600 | C8: 附属设施设备安装工程 | D8: ='600章'!E19 -> 97031
A9: 5 | B9: 第100章至第600章清单合计 | D9: =SUM(D5:D8) -> 655894
A10: 7 | B10: 投标报价(12）=(10)+(11) | D10: =D9 -> 655894 | F10: =68.29*10000 -> 682900 | G10: =F10-D10 -> 27006
D11: =D10 -> 655894

Sheet 100章
A1: 表5
A2: 工程量清单
A3: ='汇总表 '!A3 -> 工程名称：2022 年嵊州曹娥江三界段航道养护工程（航道养护） | E3: ='汇总表 '!D3 -> 人民币元
A4: 清单 第100章 总则
A5: 子目编号 | B5: 子目名称 | C5: 计量单位 | D5: 工程数量 | E5: 综合单价 | F5: 合价
A6: 101-1 | B6: 保险费 | F6: =IF(ISERROR(D6*E6),"",ROUNDDOWN(D6*E6,1)) -> 0
A7: -a | B7: 按合同条款规定，提供建筑工程一切险 | C7: 总额 | D7: 1 | E7: 6845 | F7: =IF(ISERROR(D7*E7),"",ROUNDDOWN(D7*E7,1)) -> 6845
A8: -b | B8: 按合同条款规定，提供第三方责任险 | C8: 总额 | D8: 1 | E8: 5000 | F8: =IF(ISERROR(D8*E8),"",ROUNDDOWN(D8*E8,1)) -> 5000
A9: 102 | B9: 工程管理 | F9: =IF(ISERROR(D9*E9),"",ROUNDDOWN(D9*E9,1))
A10: 102-1 | B10: 竣工文件 | C10: 总额 | D10: 1 | E10: 2000 | F10: =IF(ISERROR(D10*E10),"",ROUNDDOWN(D10*E10,1)) -> 2000
A11: 102-2 | B11: 安全生产费 | C11: 总额 | D11: 1 | E11: 13118 | F11: =IF(ISERROR(D11*E11),"",ROUNDDOWN(D11*E11,1)) -> 13118
A12: 102-3 | B12: 施工环境保护费 | C12: 总额 | D12: 1 | E12: 5000 | F12: =IF(ISERROR(D12*E12),"",ROUNDDOWN(D12*E12,1)) -> 5000
A13: 103 | B13: 临时工程与设施 | F13: =IF(ISERROR(D13*E13),"",ROUNDDOWN(D13*E13,1))
A14: 103-1 | B14: 临时道路、码头和临时栈桥修建、养护与拆除（包括原道路和码头的养护） | F14: =IF(ISERROR(D14*E14),"",ROUNDDOWN(D14*E14,1))
A15: -a | B15: 临时道路、码头、栈桥的修建、养护与拆除（包括原道路和码头的养护） | C15: 总额 | D15: 1 | E15: 2000 | F15: =IF(ISERROR(D15*E15),"",ROUNDDOWN(D15*E15,1)) -> 2000
A16: 102-2 | B16: 临时用地 | C16: 总额 | D16: 1 | E16: 2000 | F16: =IF(ISERROR(D16*E16),"",ROUNDDOWN(D16*E16,1)) -> 2000
A17: 103-3 | B17: 临时供电设施架设、拆除、维修 | C17: 总额 | D17: 1 | E17: 6060 | F17: =IF(ISERROR(D17*E17),"",ROUNDDOWN(D17*E17,1)) -> 6060
A18: 103-4 | B18: 电信设施的提供、维修与拆除 | C18: 总额 | D18: 1 | E18: 1000 | F18: =IF(ISERROR(D18*E18),"",ROUNDDOWN(D18*E18,1)) -> 1000
A19: 103-5 | B19: 供水与排污设施 | C19: 总额 | D19: 1 | E19: 600 | F19: =IF(ISERROR(D19*E19),"",ROUNDDOWN(D19*E19,1)) -> 600
A20: 104 | B20: 承包人驻地建设 | F20: =IF(ISERROR(D20*E20),"",ROUNDDOWN(D20*E20,1))
A21: 104-1 | B21: 承包人驻地建设 | C21: 总额 | D21: 1 | E21: 10000 | F21: =IF(ISERROR(D21*E21),"",ROUNDDOWN(D21*E21,1)) -> 10000 | H21: 10000
A22: 清单 第100章合计 人民币 | E22: =SUM(F6:F21) -> 53623 | F22: 元

Sheet 200章
A1: 工程量清单
A2: ='汇总表 '!A3 -> 工程名称：2022 年嵊州曹娥江三界段航道养护工程（航道养护） | E2: ='汇总表 '!D3 -> 人民币元
A3: 清单 第200章 土石方及填筑工程
A4: 子目编号 | B4: 子目名称 | C4: 单位 | D4: 工程数量 | E4: 综合单价 | F4: 合 价
A5: 202 | B5: 清理与挖除
A6: 202-1 | B6: 清理障碍物 | F6: =IF(ISERROR(D6*E6),"",ROUNDDOWN(D6*E6,1)) -> 0
A7: -a | B7: 船舶破碎打捞体积 | C7: m3 | D7: 74.04 | E7: 2601.22 | F7: =IF(ISERROR(D7*E7),"",ROUNDDOWN(D7*E7,1)) -> 192594
A8: 203 | B8: 拆除或移除 | F8: =IF(ISERROR(D8*E8),"",ROUNDDOWN(D8*E8,1))
A9: 203-4 | B9: 拆除砌体 | C9: m3 | D9: =30.27 -> 30.27 | E9: 83.35 | F9: =IF(ISERROR(D9*E9),"",ROUNDDOWN(D9*E9,1)) -> 2523
A10: 204 | B10: 土石方开挖 | F10: =IF(ISERROR(D10*E10),"",ROUNDDOWN(D10*E10,1))
A11: 204-4 | B11: 土石方开挖（含砌体挖除） | C11: m3 | D11: =22.3+31.86 -> 54.2 | E11: 38.71 | F11: =IF(ISERROR(D11*E11),"",ROUNDDOWN(D11*E11,1)) -> 2098
A13: 清单 第200章合计 人民币 | E13: =SUM(F5:F12) -> 197215 | F13: 元

Sheet 400章
A1: 工程量清单
A2: ='汇总表 '!A3 -> 工程名称：2022 年嵊州曹娥江三界段航道养护工程（航道养护） | E2: ='汇总表 '!D3 -> 人民币元
A3: 清单 第400章 混凝土工程
A4: 子目编号 | B4: 子目名称 | C4: 计量单位 | D4: 工程数量 | E4: 综合单价 | F4: 合价
A5: 403 | B5: 现浇结构混凝土 | F5: =IF(ISERROR(D5*E5),"",ROUNDDOWN(D5*E5,1)) -> 0
A6: 403-9 | B6: 混凝土墙身（C30） | C6: m3 | D6: 197.53 | E6: 739.88 | F6: =IF(ISERROR(D6*E6),"",ROUNDDOWN(D6*E6,1)) -> 146148
A7: 403-10 | B7: 钢套箱 | C7: t | D7: 19.23 | E7: 8417.92 | F7: =IF(ISERROR(D7*E7),"",ROUNDDOWN(D7*E7,1)) -> 161877
F8: =IF(ISERROR(D8*E8),"",ROUNDDOWN(D8*E8,1)) -> 0
F9: =IF(ISERROR(D9*E9),"",ROUNDDOWN(D9*E9,1)) -> 0
F10: =IF(ISERROR(D10*E10),"",ROUNDDOWN(D10*E10,1)) -> 0
F11: =IF(ISERROR(D11*E11),"",ROUNDDOWN(D11*E11,1)) -> 0
F13: =IF(ISERROR(D13*E13),"",ROUNDDOWN(D13*E13,1)) -> 0
A14: 清单 第400章合计 人民币 | E14: =SUM(F5:F13) -> 308025 | F14: 元

Sheet 600章
A1: 工程量清单
A2: ='汇总表 '!A3 -> 工程名称：2022 年嵊州曹娥江三界段航道养护工程（航道养护） | E2: ='汇总表 '!D3 -> 人民币元
A3: 清单 第600章 附属设施安装工程
A4: 子目编号 | B4: 子目名称 | C4: 计量单位 | D4: 工程数量 | E4: 综合单价 | F4: 合价
A5: 620 | B5: 标志标牌 | F5: =IF(ISERROR(D5*E5),"",ROUNDDOWN(D5*E5,1)) -> 0
A6: 620-6 | B6: 桥涵、构造物标 | F6: =IF(ISERROR(D6*E6),"",ROUNDDOWN(D6*E6,1)) -> 0
A7: -a | B7: 桥梁警示标志(2.8m×0.8m长方形) | C7: 座 | D7: 4 | E7: 1546.18 | F7: =IF(ISERROR(D7*E7),"",ROUNDDOWN(D7*E7,1)) -> 6185
A8: -b | B8: 桥梁净高标志(3.3m×2.1m长方形) | C8: 座 | D8: 2 | E8: 15422.49 | F8: =IF(ISERROR(D8*E8),"",ROUNDDOWN(D8*E8,1)) -> 30845
A9: -c | B9: 码头预告标志(3.3m×2.1m长方形) | C9: 座 | D9: 1 | E9: 15450.57 | F9: =IF(ISERROR(D9*E9),"",ROUNDDOWN(D9*E9,1)) -> 15451
A10: -d | B10: 渡口标志(1.78m×1.78m正方形) | C10: 座 | D10: 1 | E10: 7736.77 | F10: =IF(ISERROR(D10*E10),"",ROUNDDOWN(D10*E10,1)) -> 7737
A11: -e | B11: 桥梁警示标志拆除(2.8m×0.8m长方形) | C11: 座 | D11: 4 | E11: 520.24 | F11: =IF(ISERROR(D11*E11),"",ROUNDDOWN(D11*E11,1)) -> 2081
A12: -f | B12: 渡口标志拆除(1.78m×1.78m正方形) | C12: 座 | D12: 1 | E12: 1993.28 | F12: =IF(ISERROR(D12*E12),"",ROUNDDOWN(D12*E12,1)) -> 1993
A13: -g | B13: 侧面标浮筒及航标灯更换(1200浮简，遥测遥感 一体化航标灯) | C13: 座 | D13: 1 | E13: 32739.45 | F13: =IF(ISERROR(D13*E13),"",ROUNDDOWN(D13*E13,1)) -> 32739
F14: =IF(ISERROR(D14*E14),"",ROUNDDOWN(D14*E14,1)) -> 0
F15: =IF(ISERROR(D15*E15),"",ROUNDDOWN(D15*E15,1)) -> 0
D18: 0 | F18: =IF(ISERROR(D18*E18),"",ROUNDDOWN(D18*E18,1)) -> 0
A19: 清单 第600章合计 人民币 | E19: =SUM(F5:F18) -> 97031 | F19: 元

Sheet Sheet1
A1: 名称 | B1: 单位 | C1: 每延米数量 | D1: 长度 | E1: 总数量
A2: C25素砼墙身 | B2: m3 | C2: 3.72 | D2: =53.1 -> 53.1 | E2: =C2*D2 -> 197.53
A3: 干砌块石凿除 | B3: m3 | C3: 0.57 | D3: =D2 -> 53.1 | E3: =C3*D3 -> 30.27
A4: 干砌块石挖除 | B4: m3 | C4: 0.6 | D4: =D3 -> 53.1 | E4: =C4*D4 -> 31.86
A5: 挖方 | B5: m3 | C5: 0.42 | D5: =D4 -> 53.1 | E5: =C5*D5 -> 22.3
